BEGIN:VCALENDAR
VERSION:2.0
PRODID:-//MotorPark Experience - ECPv6.15.20//NONSGML v1.0//EN
CALSCALE:GREGORIAN
METHOD:PUBLISH
X-WR-CALNAME:MotorPark Experience
X-ORIGINAL-URL:https://motorparkexperience.ro/en
X-WR-CALDESC:Events for MotorPark Experience
REFRESH-INTERVAL;VALUE=DURATION:PT1H
X-Robots-Tag:noindex
X-PUBLISHED-TTL:PT1H
BEGIN:VTIMEZONE
TZID:Europe/Bucharest
BEGIN:DAYLIGHT
TZOFFSETFROM:+0200
TZOFFSETTO:+0300
TZNAME:EEST
DTSTART:20240331T010000
END:DAYLIGHT
BEGIN:STANDARD
TZOFFSETFROM:+0300
TZOFFSETTO:+0200
TZNAME:EET
DTSTART:20241027T010000
END:STANDARD
BEGIN:DAYLIGHT
TZOFFSETFROM:+0200
TZOFFSETTO:+0300
TZNAME:EEST
DTSTART:20250330T010000
END:DAYLIGHT
BEGIN:STANDARD
TZOFFSETFROM:+0300
TZOFFSETTO:+0200
TZNAME:EET
DTSTART:20251026T010000
END:STANDARD
BEGIN:DAYLIGHT
TZOFFSETFROM:+0200
TZOFFSETTO:+0300
TZNAME:EEST
DTSTART:20260329T010000
END:DAYLIGHT
BEGIN:STANDARD
TZOFFSETFROM:+0300
TZOFFSETTO:+0200
TZNAME:EET
DTSTART:20261025T010000
END:STANDARD
END:VTIMEZONE
BEGIN:VEVENT
DTSTART;TZID=Europe/Bucharest:20250222T090000
DTEND;TZID=Europe/Bucharest:20250222T120000
DTSTAMP:20260423T194950
CREATED:20250221T151305Z
LAST-MODIFIED:20250221T151621Z
UID:214-1740214800-1740225600@motorparkexperience.ro
SUMMARY:Track day auto pe zapada #138
DESCRIPTION:Track day pe zapada – MotorPark Experience #138 \n\n\n\n\n\n\n\nEvenimentul se va tine in data de 22.02.2025 asa cum a fost programat \n\n\n\nProgram: 9.00 – 12.00 (3 ore) \n\n\n\n– Sens – normal (orar) \n\n\n\nConditii si termeni de acces (va rugam sa accesati link-urile si sa cititi):– https://motorparkromania.ro/termeni-si-conditii-acces1.html– https://motorparkromania.ro/regulament-acces.html– https://motorparkromania.ro/semnificatie-steaguri.html– Casca auto (deschisa sau inchisa) este obligatorie atat pentru pilot cat si pentru pasager. Daca nu aveti\, puteti inchiria de la circuit.– Este obligatoriu sa aveti la masina sistem de tractare (cui) pentru a va putea trage in caz ca nu mai puteti reveni pe pista si extinctor \n\n\n\nATENTIE\n\n\n\n– La circuit este frig\, inclusiv in cladiri. Veniti bine imbracati \n\n\n\n– Toaletele NU functioneaza si nu avem nici apa curenta (apa este oprita din ratiuni de inghet) \n\n\n\n– Terasa restaurant NU functioneaza \n\n\n\n– In schimb o sa functioneze barul de la etaj cu cafea si bauturi calde \n\n\n\n– Pe drumul de acces din sosea se poate circula alternativ in ambele directii. Exista zona de degajare in capatul gardului (unde pot trece 2 masini una pe langa cealalta). Va rog sa va asigurati inainte de a intra pe portiuni pentru a nu fi nevoiti sa dati in marsarier distante mari. Am incercat sa nivelam si acest drum cat de cat\, probabil dimineata se va intra mai usor daca este inghetat. La plecare probabil ca va fi mai dificil \n\n\n\n– Pe pista vor intra in jur de 4-5 masini odata\, la o distanta destul de mare intre ele. Vor face 2-3 tururi dupa care vor iesi afara si se vor putea aseza din nou la coada de intrare. In functie de numarul de participanti si de dinamica evenimentului este posibil sa schimbam regulile \n\n\n\n– Programul ales este 9-12 pentru ca daca e soare\, cel mai probabil pana in pranz toata zapada va fi tocata \n\n\n\nPreturi– 500 lei pentru cele 3 ore. Plata se poate face la circuit in numerar\, transfer bancar\, revolut (nu avem POS)– Pasager = 20 lei– Casca + cagula = 80 lei– Pretul este per pilot \n\n\n\nBoxe \n\n\n\n– Se pot inchiria boxe la 550 lei/zi/boxa in masura disponibilitatii. \n\n\n\nProgram \n\n\n\n– 08.45 – 09.00 Briefing – 09.00 – 12.00 Open pitlane \n\n\n\n– 12.00 – Sfarsit eveniment \n\n\n\nGrup Whatsapp: https://chat.whatsapp.com/GFgBMCPfVYNEzXBl99XxvX. Aici se anunta toate evenimentele si schimbarile plus alte lucruri de interes privind track day-urile auto MotorPark Experience. \n\n\n\nInformatii pe telefon sau whatsapp 0722626191
URL:https://motorparkexperience.ro/en/event/track-day-auto-pe-zapada-138/
LOCATION:Motorpark Romania\, Adancata\, Romania
CATEGORIES:Auto
ATTACH;FMTTYPE=image/jpeg:https://motorparkexperience.ro/wp-content/uploads/2025/02/Auto-22.02.jpg
END:VEVENT
END:VCALENDAR