BEGIN:VCALENDAR
VERSION:2.0
PRODID:-//MotorPark Experience - ECPv6.15.20//NONSGML v1.0//EN
CALSCALE:GREGORIAN
METHOD:PUBLISH
X-ORIGINAL-URL:https://motorparkexperience.ro
X-WR-CALDESC:Evenimente pentru MotorPark Experience
REFRESH-INTERVAL;VALUE=DURATION:PT1H
X-Robots-Tag:noindex
X-PUBLISHED-TTL:PT1H
BEGIN:VTIMEZONE
TZID:Europe/Bucharest
BEGIN:DAYLIGHT
TZOFFSETFROM:+0200
TZOFFSETTO:+0300
TZNAME:EEST
DTSTART:20240331T010000
END:DAYLIGHT
BEGIN:STANDARD
TZOFFSETFROM:+0300
TZOFFSETTO:+0200
TZNAME:EET
DTSTART:20241027T010000
END:STANDARD
BEGIN:DAYLIGHT
TZOFFSETFROM:+0200
TZOFFSETTO:+0300
TZNAME:EEST
DTSTART:20250330T010000
END:DAYLIGHT
BEGIN:STANDARD
TZOFFSETFROM:+0300
TZOFFSETTO:+0200
TZNAME:EET
DTSTART:20251026T010000
END:STANDARD
BEGIN:DAYLIGHT
TZOFFSETFROM:+0200
TZOFFSETTO:+0300
TZNAME:EEST
DTSTART:20260329T010000
END:DAYLIGHT
BEGIN:STANDARD
TZOFFSETFROM:+0300
TZOFFSETTO:+0200
TZNAME:EET
DTSTART:20261025T010000
END:STANDARD
END:VTIMEZONE
BEGIN:VEVENT
DTSTART;TZID=Europe/Bucharest:20250321T090000
DTEND;TZID=Europe/Bucharest:20250321T180000
DTSTAMP:20260423T172256
CREATED:20250207T165320Z
LAST-MODIFIED:20250304T085737Z
UID:178-1742547600-1742580000@motorparkexperience.ro
SUMMARY:Track Day Auto #139
DESCRIPTION:– Sens normal (orar)– Ziua are 3 sesiuni open pitlane conform programului de mai jos. Vor fi 2 sesiuni de 3 ore si una de 2 ore exclusiv pentru cei de la RES. Cei de la RES pot participa la toate sesiunile in schimb amatorii pot participa doar la primele doua  \n\n\n\nConditii si termeni de acces (va rugam sa accesati link-urile si sa cititi):– https://motorparkromania.ro/termeni-si-conditii-acces1.html– https://motorparkromania.ro/regulament-acces.html– https://motorparkromania.ro/semnificatie-steaguri.html– Casca auto (deschisa sau inchisa) este obligatorie atat pentru pilot cat si pentru pasager. Daca nu aveti\, puteti inchiria de la circuit.– Este obligatoriu sa aveti la masina sistem de tractare (cui) si extinctor  \n\n\n\nPreturi \n\n\n\n\n– O singura sesiune – de 3 ore sau cea de 2 ore = 500 lei. Pentru plata in avans pretul este de 450 lei/ sesiune. Trebuie sa alegeti Open Pitlane 1 (09.00 – 12.00)\, Open Pitlane 2 (13.00 – 16.00) sau Open Pitlane 3 exclusiv pentru pilotii RES (16.00 – 18.00)\n\n\n\n– Doua sesiuni de 3 ore (2 x 3 ore) sau doua sesiuni\, una de 3 ore si una de 2 ore (1 x 3 ore + 1 x 2 ore) = 650 lei. Pentru plata in avans\, pretul este de 600 lei pentru 2 sesiuni. Trebuie sa alegeti Open Pitlane 1 + 2 (pentru toata lumea) sau Open Pitlane 2 + 3 (doar pentru pilotii RES)\n\n\n\n– Trei sesiuni (2 x 3 ore + 1 x 2 ore) – valabil doar pentru cei de la RES = 800 lei. Pentru plata in avans pretul este de 750 lei pentru cele 3 sesiuni\n\n\n\n– Instructor in dreapta (6 tururi cu masina personala) = 300 lei (trebuie rezervat in avans)\n\n\n\n– Pasager = 20 lei\n\n\n\n– Casca + cagula = 80 lei\n\n\n\n– Pretul este per pilot.\n\n\n\n\nProcedura de inscriere: \n\n\n\n\nDaca doriti sa achitati la circuit\, nu trebuie sa va inscrieti in avans. \n\n\n\nPentru plata in avans trebuie sa trimiteti un e-mail la contact@motorparkromania.ro unde se vor specifica: numele pilotului\, numarul de sesiuni (si care dintre ele) si un numar de telefon de contact. In urma solicitarii veti primi contul in care sa faceti plata precum si orice alte informatii necesare. Plata se va face prin OP/ internet banking\n\n\n\nATENTIE! Daca nu participati la eveniment\, banii NU se pot returna si NU se pot folosi in contul altui eveniment de acest gen.\n\n\n\nUltima zi pentru plata in avans cu discount: 19.03.2025 – ora 18.00.\n\n\n\nDaca solicitati inscrierea in avans si nu faceti plata pana la data mentionata mai sus\, la circuit va trebui sa platiti diferenta.\n\n\n\nDupa data de 19.03.2025 se poate achita suma integrala la circuit.\n\n\n\n\nTranspondere– Transponderele sunt gratuite si sunt incluse in pret   \n\n\n\nBoxe– Se pot inchiria boxe la 550 lei/zi/boxa in masura disponibilitatii.  \n\n\n\nMasini de inchiriat– Avem disponibile BMW M235i si Porsche Cayman 718. Detalii pentru achizitionarea voucherelor aici: https://motorparkromania.ro/masini-de-inchiriat…  \n\n\n\nProgram \n\n\n\n\n– 08.45 – 09.00  Briefing 1\n\n\n\n– 09.00 – 12.00  Open pitlane 1\n\n\n\n– 12.00 – 13.00  Pauza\n\n\n\n– 12.45 – 13.00  Briefing 2 (pentru cei care nu au participat la primul)\n\n\n\n– 13.00 – 16.00  Open pitlane 2\n\n\n\n– 15.45 – 16.00 Briefing 3 (pentru cei care nu au participat la cele anterioare)\n\n\n\n– 16.00 – 18.00 Open pitlane 3\n\n\n\n\nGrup Whatsapp: https://chat.whatsapp.com/GFgBMCPfVYNEzXBl99XxvX. Aici se anunta toate evenimentele si schimbarile plus alte lucruri de interes privind track day-urile auto MotorPark Experience. \n\n\n\n Informatii pe telefon sau whatsapp 0722626191Informatii si inscrieri pe contact@motorparkromania.ro
URL:https://motorparkexperience.ro/event/track-day-auto-2/
LOCATION:Motorpark Romania\, Adancata\, Romania
ATTACH;FMTTYPE=image/jpeg:https://motorparkexperience.ro/wp-content/uploads/2025/02/Auto-21.03.jpg
END:VEVENT
END:VCALENDAR