BEGIN:VCALENDAR
VERSION:2.0
PRODID:-//MotorPark Experience - ECPv6.15.20//NONSGML v1.0//EN
CALSCALE:GREGORIAN
METHOD:PUBLISH
X-WR-CALNAME:MotorPark Experience
X-ORIGINAL-URL:https://motorparkexperience.ro
X-WR-CALDESC:Evenimente pentru MotorPark Experience
REFRESH-INTERVAL;VALUE=DURATION:PT1H
X-Robots-Tag:noindex
X-PUBLISHED-TTL:PT1H
BEGIN:VTIMEZONE
TZID:Europe/Bucharest
BEGIN:DAYLIGHT
TZOFFSETFROM:+0200
TZOFFSETTO:+0300
TZNAME:EEST
DTSTART:20240331T010000
END:DAYLIGHT
BEGIN:STANDARD
TZOFFSETFROM:+0300
TZOFFSETTO:+0200
TZNAME:EET
DTSTART:20241027T010000
END:STANDARD
BEGIN:DAYLIGHT
TZOFFSETFROM:+0200
TZOFFSETTO:+0300
TZNAME:EEST
DTSTART:20250330T010000
END:DAYLIGHT
BEGIN:STANDARD
TZOFFSETFROM:+0300
TZOFFSETTO:+0200
TZNAME:EET
DTSTART:20251026T010000
END:STANDARD
BEGIN:DAYLIGHT
TZOFFSETFROM:+0200
TZOFFSETTO:+0300
TZNAME:EEST
DTSTART:20260329T010000
END:DAYLIGHT
BEGIN:STANDARD
TZOFFSETFROM:+0300
TZOFFSETTO:+0200
TZNAME:EET
DTSTART:20261025T010000
END:STANDARD
END:VTIMEZONE
BEGIN:VEVENT
DTSTART;TZID=Europe/Bucharest:20250502T090000
DTEND;TZID=Europe/Bucharest:20250502T180000
DTSTAMP:20260423T131821
CREATED:20250419T070103Z
LAST-MODIFIED:20250510T143320Z
UID:230-1746176400-1746208800@motorparkexperience.ro
SUMMARY:Track Day Moto - MotorPark Experience #143
DESCRIPTION:Sens: normal (orar) \n\n\n\nGrupe: \n\n\n\nA – sub 1.55 min/tur\,B – intre 1.55 – 2.15 min/tur\,C – intre 2.15 – 2.35 min/tur\,D – peste 2.35 min/tur + scoala + first timers \n\n\n\n– 6 sesiuni/ zi (1 warm-up 15 min + 5 x 20 minute)– Numar locuri limitate– Pretul este de 450 lei/zi pentru plata in avans si 550 lei/zi la circuit.– Pretul este per pilot.– Transponder inclus in pret\, obligatoriu de montat pe motocicleta– Este obligatoriu echipament complet de circuit din piele (combinezon\, cască\, mănuși\, cizme)\, numerele de înmatriculare vor fi scoase iar părțile de sticla (oglinzi\, far etc.) vor fi acoperite cu banda. Este permis si costumul textil din 2 bucati cu protectie spate iar cele 2 bucati trebuie sa se prinda intre ele cu fermoar.– https://motorparkromania.ro/termeni-si-conditii-acces1.html– https://motorparkromania.ro/regulament-acces.html– https://motorparkromania.ro/semnificatie-steaguri.html– Pentru first timers avem instructor gratuit care va explica in amanunt mersul pe circuit si va intra o sesiune cu acestia. Acesta este un serviciu separat de scoala de pilotaj moto pe care o recomandam tuturor noilor veniti. \n\n\n\nProcedura si conditiile de inscriere– Inscrierile se pot face in avans sau la circuit (in limita locurilor ramase disponibile)– Termenul limita pentru inscriere in avans este este 30.04.2025\, ora 17.00\, in limita locurilor disponibile– Inscrierea se face prin trimiterea unei solicitari pe contact@motorparkromania.ro unde se vor specifica: numele pilotului\, numar de telefon de contact si timpul cel mai bun obtinut pe MotorPark (sau grupa la care doriti inscrierea)– In urma solicitarii veti primi contul in care sa faceti plata precum si orice alte informatii necesare. Plata se va face prin OP/ internet banking.– Inscrierea celor care vin direct la circuit se face in limita locurilor ramase disponibile. Suma platibila la circuit este de 550 lei\, numerar.– In cazul neprezentarii la data pentru care v-ati inscris\, suma NU se reporteaza si NU se returneaza. In cazul anularii/ reprogramarii evenimentului de catre organizator\, toata suma va fi reportata pentru o data viitoare.– In functie de conditiile meteo si dinamica evenimentului\, numarul de sesiuni poate fi mai mic decat cel mentionat \n\n\n\nTranspondere \n\n\n\n– Transponderele se ofera gratuit si sunt obligatorii \n\n\n\nBoxe– Se pot inchiria boxe in masura disponibilitatii. \n\n\n\nScoala de pilotaj moto– Pentru scoala va rugam sa contactati partenerii nostrii de la Rider Academy – office@rider-academy.ro /0728 099 670 sau Petrovici Racing School 0724 117 420 \n\n\n\nProgram– 8.45 – Briefing– Grupa A: 9.20\, 10.25\, 11.45\, 14.00\, 15.20\, 16.40– Grupa B: 9.05\, 10.05\, 11.25\, 13.40\, 15.00\, 16.20– Grupa C: 9.35\, 10.45\, 12.05\, 14.20\, 15.40\, 17.00– Grupa D: 09.50\, 11.05\, 12.25\, 14.40\, 16.00\, 17.20 \n\n\n\nMai multe informatii telefonic si pe WhatsApp 0722 626 191 sau contact@motorparkromania.ro \n\n\n\nDaca vreti sa va inscrieti in grupul de moto MotorPark Experience pentru a afla mai repede diverse informatii: https://chat.whatsapp.com/DJf1JSHo4gA8neAyw68q10
URL:https://motorparkexperience.ro/event/track-day-moto-motorpark-experience-143/
LOCATION:Motorpark Romania\, Adancata\, Romania
CATEGORIES:Moto
ATTACH;FMTTYPE=image/jpeg:https://motorparkexperience.ro/wp-content/uploads/2025/04/Moto-02.05.jpg
END:VEVENT
BEGIN:VEVENT
DTSTART;TZID=Europe/Bucharest:20250503T100000
DTEND;TZID=Europe/Bucharest:20250503T170000
DTSTAMP:20260423T131821
CREATED:20250419T071553Z
LAST-MODIFIED:20250510T143311Z
UID:235-1746266400-1746291600@motorparkexperience.ro
SUMMARY:Track Day Auto - MotorPark Experience #144
DESCRIPTION:ATENTIE PENTRU JUNIORI: participarea la acest eveniment se poate face numai cu aprobare prealabila. Va rugam sa ne contactati in avans \n\n\n\n– Sens normal (orar)– Ziua are 2 sesiuni open pitlane conform programului de mai jos.   \n\n\n\nConditii si termeni de acces (va rugam sa accesati link-urile si sa cititi):– https://motorparkromania.ro/termeni-si-conditii-acces1.html– https://motorparkromania.ro/regulament-acces.html– https://motorparkromania.ro/semnificatie-steaguri.html– Casca auto (deschisa sau inchisa) este obligatorie atat pentru pilot cat si pentru pasager. Daca nu aveti\, puteti inchiria de la circuit.– Este obligatoriu sa aveti la masina sistem de tractare (cui) si extinctor  \n\n\n\nPreturi \n\n\n\n\n– O singura sesiune = 500 lei. Pentru plata in avans pretul este de 450 lei/ sesiune. Trebuie sa alegeti Open Pitlane 1 (10.00 – 13.00) sau Open Pitlane 2 (14.00 – 17.00)\n\n\n\n– Doua sesiuni (toata ziua) = 650 lei. Pentru plata in avans\, pretul este de 600 lei. \n\n\n\n– Instructor in dreapta (6 tururi cu masina personala) = 300 lei (trebuie rezervat in avans)\n\n\n\n– Pasager = 20 lei\n\n\n\n– Casca + cagula = 80 lei\n\n\n\n– Pretul este per pilot.\n\n\n\n\nProcedura de inscriere: \n\n\n\n\nDaca doriti sa achitati la circuit\, nu trebuie sa va inscrieti in avans. \n\n\n\nPentru plata in avans trebuie sa trimiteti un e-mail la contact@motorparkromania.ro unde se vor specifica: numele pilotului\, numarul de sesiuni (si care dintre ele) si un numar de telefon de contact. In urma solicitarii veti primi contul in care sa faceti plata precum si orice alte informatii necesare. Plata se va face prin OP/ internet banking\n\n\n\nATENTIE! Daca nu participati la eveniment\, banii NU se pot returna si NU se pot folosi in contul altui eveniment de acest gen.\n\n\n\nUltima zi pentru plata in avans cu discount: 01.05.2025 – ora 18.00.\n\n\n\nDaca solicitati inscrierea in avans si nu faceti plata pana la data mentionata mai sus\, la circuit va trebui sa platiti diferenta.\n\n\n\nDupa data de 01.05.2025 se poate achita suma integrala la circuit.\n\n\n\n\nTranspondere– Transponderele sunt gratuite si sunt incluse in pret   \n\n\n\nBoxe– Nu mai avem disponibilitate.  \n\n\n\nMasini de inchiriat– Avem disponibile BMW M235i si Porsche Cayman 718. Detalii pentru achizitionarea voucherelor aici: https://motorparkromania.ro/masini-de-inchiriat…  \n\n\n\nProgram \n\n\n\n\n– 09.45 – 10.00  Briefing 1\n\n\n\n– 10.00 – 13.00  Open pitlane 1\n\n\n\n– 13.00 – 14.00  Pauza\n\n\n\n– 13.45 – 14.00  Briefing 2 (pentru cei care nu au participat la primul)\n\n\n\n– 14.00 – 17.00  Open pitlane 2\n\n\n\n\nGrup Whatsapp: https://chat.whatsapp.com/GFgBMCPfVYNEzXBl99XxvX. Aici se anunta toate evenimentele si schimbarile plus alte lucruri de interes privind track day-urile auto MotorPark Experience. \n\n\n\n Informatii pe telefon sau whatsapp 0722626191Informatii si inscrieri pe contact@motorparkromania.ro
URL:https://motorparkexperience.ro/event/track-day-auto-motorpark-experience-144/
LOCATION:Motorpark Romania\, Adancata\, Romania
CATEGORIES:Auto
ATTACH;FMTTYPE=image/jpeg:https://motorparkexperience.ro/wp-content/uploads/2025/04/Auto-03.05.jpg
END:VEVENT
BEGIN:VEVENT
DTSTART;TZID=Europe/Bucharest:20250521T090000
DTEND;TZID=Europe/Bucharest:20250521T180000
DTSTAMP:20260423T131821
CREATED:20250510T143837Z
LAST-MODIFIED:20250510T145528Z
UID:277-1747818000-1747850400@motorparkexperience.ro
SUMMARY:Track Day Auto - MotorPark Experience #145
DESCRIPTION:Track Day Auto – MotorPark Experience #145 \n\n\n\n– Sens invers (anti-orar) \n\n\n\n– Ziua are 2 sesiuni open pitlane conform programului de mai jos.   \n\n\n\nConditii si termeni de acces (va rugam sa accesati link-urile si sa cititi):– https://motorparkromania.ro/termeni-si-conditii-acces1.html– https://motorparkromania.ro/regulament-acces.html– https://motorparkromania.ro/semnificatie-steaguri.html– Casca auto (deschisa sau inchisa) este obligatorie atat pentru pilot cat si pentru pasager. Daca nu aveti\, puteti inchiria de la circuit.– Este obligatoriu sa aveti la masina sistem de tractare (cui) si extinctor  \n\n\n\nPreturi \n\n\n\n\n– O singura sesiune = 500 lei. Pentru plata in avans pretul este de 450 lei/ sesiune. Trebuie sa alegeti Open Pitlane 1 (10.00 – 13.00) sau Open Pitlane 2 (14.00 – 17.00)\n\n\n\n– Doua sesiuni (toata ziua) = 650 lei. Pentru plata in avans\, pretul este de 600 lei. \n\n\n\n– Instructor in dreapta (6 tururi cu masina personala) = 300 lei (trebuie rezervat in avans)\n\n\n\n– Pasager = 20 lei\n\n\n\n– Casca + cagula = 80 lei\n\n\n\n– Pretul este per pilot.\n\n\n\n\nProcedura de inscriere: \n\n\n\n\nDaca doriti sa achitati la circuit\, nu trebuie sa va inscrieti in avans. \n\n\n\nPentru plata in avans trebuie sa trimiteti un e-mail la contact@motorparkromania.ro unde se vor specifica: numele pilotului\, numarul de sesiuni (si care dintre ele) si un numar de telefon de contact. In urma solicitarii veti primi contul in care sa faceti plata precum si orice alte informatii necesare. Plata se va face prin OP/ internet banking\n\n\n\nATENTIE! Daca nu participati la eveniment\, banii NU se pot returna si NU se pot folosi in contul altui eveniment de acest gen.\n\n\n\nUltima zi pentru plata in avans cu discount: 19.05.2025 – ora 18.00.\n\n\n\nDaca solicitati inscrierea in avans si nu faceti plata pana la data mentionata mai sus\, la circuit va trebui sa platiti diferenta.\n\n\n\nDupa data de 19.05.2025 se poate achita suma integrala la circuit.\n\n\n\n\nTranspondere– Transponderele sunt gratuite si sunt incluse in pret   \n\n\n\nBoxe– Se pot inchiria boxe in limita disponibilitatii.  \n\n\n\nMasini de inchiriat– Avem disponibile BMW M235i si Porsche Cayman 718. Detalii pentru achizitionarea voucherelor aici: https://motorparkromania.ro/masini-de-inchiriat…  \n\n\n\nProgram \n\n\n\n\n– 09.45 – 10.00  Briefing 1\n\n\n\n– 10.00 – 13.00  Open pitlane 1\n\n\n\n– 13.00 – 14.00  Pauza\n\n\n\n– 13.45 – 14.00  Briefing 2 (pentru cei care nu au participat la primul)\n\n\n\n– 14.00 – 17.00  Open pitlane 2\n\n\n\n\nGrup Whatsapp: https://chat.whatsapp.com/GFgBMCPfVYNEzXBl99XxvX. Aici se anunta toate evenimentele si schimbarile plus alte lucruri de interes privind track day-urile auto MotorPark Experience. \n\n\n\n Informatii pe telefon sau whatsapp 0722626191Informatii si inscrieri pe contact@motorparkromania.ro
URL:https://motorparkexperience.ro/event/track-day-auto-motorpark-experience-145/
LOCATION:Motorpark Romania\, Adancata\, Romania
CATEGORIES:Auto
ATTACH;FMTTYPE=image/jpeg:https://motorparkexperience.ro/wp-content/uploads/2025/05/Auto-21.05.1.jpg
END:VEVENT
BEGIN:VEVENT
DTSTART;TZID=Europe/Bucharest:20250522T090000
DTEND;TZID=Europe/Bucharest:20250522T180000
DTSTAMP:20260423T131821
CREATED:20250510T144348Z
LAST-MODIFIED:20250510T145614Z
UID:279-1747904400-1747936800@motorparkexperience.ro
SUMMARY:Track Day Moto - MotorPark Experience #146
DESCRIPTION:Track Day Moto – MotorPark Experience #146 \n\n\n\nSens: invers (anti-orar) \n\n\n\nGrupe: \n\n\n\nA – sub 1.55 min/tur\,B – intre 1.55 – 2.15 min/tur\,C – intre 2.15 – 2.35 min/tur\,D – peste 2.35 min/tur + scoala + first timers \n\n\n\n– 6 sesiuni/ zi (1 warm-up 15 min + 5 x 20 minute)– Numar locuri limitate– Pretul este de 450 lei/zi pentru plata in avans si 550 lei/zi la circuit.– Pretul este per pilot.– Transponder inclus in pret\, obligatoriu de montat pe motocicleta– Este obligatoriu echipament complet de circuit din piele (combinezon\, cască\, mănuși\, cizme)\, numerele de înmatriculare vor fi scoase iar părțile de sticla (oglinzi\, far etc.) vor fi acoperite cu banda. Este permis si costumul textil din 2 bucati cu protectie spate iar cele 2 bucati trebuie sa se prinda intre ele cu fermoar.– https://motorparkromania.ro/termeni-si-conditii-acces1.html– https://motorparkromania.ro/regulament-acces.html– https://motorparkromania.ro/semnificatie-steaguri.html– Pentru first timers avem instructor gratuit care va explica in amanunt mersul pe circuit si va intra o sesiune cu acestia. Acesta este un serviciu separat de scoala de pilotaj moto pe care o recomandam tuturor noilor veniti. \n\n\n\nProcedura si conditiile de inscriere– Inscrierile se pot face in avans sau la circuit (in limita locurilor ramase disponibile)– Termenul limita pentru inscriere in avans este este 20.05.2025\, ora 17.00\, in limita locurilor disponibile– Inscrierea se face prin trimiterea unei solicitari pe contact@motorparkromania.ro unde se vor specifica: numele pilotului\, numar de telefon de contact si timpul cel mai bun obtinut pe MotorPark (sau grupa la care doriti inscrierea)– In urma solicitarii veti primi contul in care sa faceti plata precum si orice alte informatii necesare. Plata se va face prin OP/ internet banking.– Inscrierea celor care vin direct la circuit se face in limita locurilor ramase disponibile. Suma platibila la circuit este de 550 lei\, numerar.– In cazul neprezentarii la data pentru care v-ati inscris\, suma NU se reporteaza si NU se returneaza. In cazul anularii/ reprogramarii evenimentului de catre organizator\, toata suma va fi reportata pentru o data viitoare.– In functie de conditiile meteo si dinamica evenimentului\, numarul de sesiuni poate fi mai mic decat cel mentionat \n\n\n\nTranspondere \n\n\n\n– Transponderele se ofera gratuit si sunt obligatorii \n\n\n\nBoxe– Se pot inchiria boxe in masura disponibilitatii. \n\n\n\nScoala de pilotaj moto– Pentru scoala va rugam sa contactati partenerii nostrii de la Rider Academy – office@rider-academy.ro /0728 099 670 sau Petrovici Racing School 0724 117 420 \n\n\n\nProgram– 8.45 – Briefing– Grupa A: 9.20\, 10.25\, 11.45\, 14.00\, 15.20\, 16.40– Grupa B: 9.05\, 10.05\, 11.25\, 13.40\, 15.00\, 16.20– Grupa C: 9.35\, 10.45\, 12.05\, 14.20\, 15.40\, 17.00– Grupa D: 09.50\, 11.05\, 12.25\, 14.40\, 16.00\, 17.20 \n\n\n\nMai multe informatii telefonic si pe WhatsApp 0722 626 191 sau contact@motorparkromania.ro \n\n\n\nDaca vreti sa va inscrieti in grupul de moto MotorPark Experience pentru a afla mai repede diverse informatii: https://chat.whatsapp.com/DJf1JSHo4gA8neAyw68q10
URL:https://motorparkexperience.ro/event/track-day-moto-motorpark-experience-146/
LOCATION:Motorpark Romania\, Adancata\, Romania
CATEGORIES:Moto
ATTACH;FMTTYPE=image/jpeg:https://motorparkexperience.ro/wp-content/uploads/2025/05/Moto-22.05.jpg
END:VEVENT
END:VCALENDAR